0.250000
0.000000
0.000000
-0.250000
616560.125000
4794319.875000
