0.250000
0.000000
0.000000
-0.250000
592990.125000
4786999.875000
