0.250000
0.000000
0.000000
-0.250000
616680.125000
4787379.875000
