0.250000
0.000000
0.000000
-0.250000
620020.125000
4789759.875000
