0.250000
0.000000
0.000000
-0.250000
623400.125000
4789819.875000
