0.250000
0.000000
0.000000
-0.250000
626790.125000
4789879.875000
