0.250000
0.000000
0.000000
-0.250000
620100.125000
4785129.875000
