0.250000
0.000000
0.000000
-0.250000
626870.125000
4785249.875000
