0.250000
0.000000
0.000000
-0.250000
630260.125000
4785319.875000
