0.250000
0.000000
0.000000
-0.250000
579730.125000
4763689.875000
