0.250000
0.000000
0.000000
-0.250000
593120.125000
4777749.875000
