0.250000
0.000000
0.000000
-0.250000
610060.125000
4778009.875000
