0.250000
0.000000
0.000000
-0.250000
610130.125000
4773379.875000
