0.250000
0.000000
0.000000
-0.250000
613530.125000
4773439.875000
