0.250000
0.000000
0.000000
-0.250000
616920.125000
4773499.875000
