0.250000
0.000000
0.000000
-0.250000
610170.125000
4771069.875000
