0.250000
0.000000
0.000000
-0.250000
593250.125000
4768489.875000
