0.250000
0.000000
0.000000
-0.250000
617000.125000
4768869.875000
