0.250000
0.000000
0.000000
-0.250000
593280.125000
4766179.875000
