0.250000
0.000000
0.000000
-0.250000
627000.125000
4778309.875000
