0.250000
0.000000
0.000000
-0.250000
620310.125000
4773559.875000
