0.250000
0.000000
0.000000
-0.250000
637260.125000
4773889.875000
