0.250000
0.000000
0.000000
-0.250000
623740.125000
4771309.875000
