0.250000
0.000000
0.000000
-0.250000
637310.125000
4771569.875000
