0.250000
0.000000
0.000000
-0.250000
627220.125000
4766749.875000
