1.000000
0.000000
0.000000
-1.000000
586560.500000
4756929.500000
