1.000000
0.000000
0.000000
-1.000000
586670.500000
4747679.500000
