1.000000
0.000000
0.000000
-1.000000
600080.500000
4761759.500000
