1.000000
0.000000
0.000000
-1.000000
606950.500000
4757239.500000
