1.000000
0.000000
0.000000
-1.000000
613740.500000
4757349.500000
