1.000000
0.000000
0.000000
-1.000000
607090.500000
4747979.500000
