1.000000
0.000000
0.000000
-1.000000
620460.500000
4762099.500000
