1.000000
0.000000
0.000000
-1.000000
634050.500000
4762369.500000
