1.000000
0.000000
0.000000
-1.000000
640840.500000
4762509.500000
