1.000000
0.000000
0.000000
-1.000000
634230.500000
4753119.500000
