1.000000
0.000000
0.000000
-1.000000
641030.500000
4753259.500000
