1.000000
0.000000
0.000000
-1.000000
620700.500000
4748219.500000
