1.000000
0.000000
0.000000
-1.000000
668010.500000
4763149.500000
