1.000000
0.000000
0.000000
-1.000000
647730.500000
4758039.500000
