1.000000
0.000000
0.000000
-1.000000
654740.500000
4748939.500000
