1.000000
0.000000
0.000000
-1.000000
552680.500000
4742669.500000
