1.000000
0.000000
0.000000
-1.000000
559490.500000
4742729.500000
