1.000000
0.000000
0.000000
-1.000000
600490.500000
4733989.500000
