1.000000
0.000000
0.000000
-1.000000
607380.500000
4729479.500000
