1.000000
0.000000
0.000000
-1.000000
627680.500000
4739099.500000
