1.000000
0.000000
0.000000
-1.000000
620950.500000
4734339.500000
