1.000000
0.000000
0.000000
-1.000000
654940.500000
4739679.500000
