1.000000
0.000000
0.000000
-1.000000
552890.500000
4714909.500000
