1.000000
0.000000
0.000000
-1.000000
559770.500000
4710339.500000
