1.000000
0.000000
0.000000
-1.000000
580140.500000
4724449.500000
